BEGIN:VCALENDAR
VERSION:2.0
CALSCALE:GREGORIAN
PRODID:adamgibbons/ics
METHOD:PUBLISH
X-PUBLISHED-TTL:PT1H
BEGIN:VEVENT
UID:9542@calendari.cc
SUMMARY:Taller de autodefensa
DTSTAMP:20260422T204950Z
DTSTART:20260502T090000Z
DTEND:20260502T223000Z
URL:https://calendari.cc/event/taller-de-autodefensa
GEO:2.18795;41.4858
LOCATION:La Porvenir - Carrer Major 26\, 08110 Montcada i Reixac
STATUS:CONFIRMED
CATEGORIES:AutoDefensa,autodefensa feminista,autogestió,gimnàs,La Porvenir,
	Montcada i Reixac,SantAndreu,taller
END:VEVENT
BEGIN:VEVENT
UID:9550@calendari.cc
SUMMARY:TALLER DE AUTODEFENSA
DTSTAMP:20260422T204950Z
DTSTART:20260502T090000Z
DTEND:20260508T223000Z
URL:https://calendari.cc/event/taller-de-autodefensa-1
GEO:2.18795;41.4858
LOCATION:La Porvenir - Carrer Major 26\, 08110 Montcada i Reixac
STATUS:CONFIRMED
CATEGORIES:AutoDefensa,La Porvenir,Montcada i Reixac,SantAndreu,taller,taqu
	illaInversa
END:VEVENT
END:VCALENDAR
